BEGIN:VCALENDAR
VERSION:2.0
PRODID:-//Great Marsh Institute - ECPv6.15.10//NONSGML v1.0//EN
CALSCALE:GREGORIAN
METHOD:PUBLISH
X-WR-CALNAME:Great Marsh Institute
X-ORIGINAL-URL:https://greatmarshinstitute.org
X-WR-CALDESC:Events for Great Marsh Institute
REFRESH-INTERVAL;VALUE=DURATION:PT1H
X-Robots-Tag:noindex
X-PUBLISHED-TTL:PT1H
BEGIN:VTIMEZONE
TZID:America/New_York
BEGIN:DAYLIGHT
TZOFFSETFROM:-0500
TZOFFSETTO:-0400
TZNAME:EDT
DTSTART:20250309T070000
END:DAYLIGHT
BEGIN:STANDARD
TZOFFSETFROM:-0400
TZOFFSETTO:-0500
TZNAME:EST
DTSTART:20251102T060000
END:STANDARD
BEGIN:DAYLIGHT
TZOFFSETFROM:-0500
TZOFFSETTO:-0400
TZNAME:EDT
DTSTART:20260308T070000
END:DAYLIGHT
BEGIN:STANDARD
TZOFFSETFROM:-0400
TZOFFSETTO:-0500
TZNAME:EST
DTSTART:20261101T060000
END:STANDARD
BEGIN:DAYLIGHT
TZOFFSETFROM:-0500
TZOFFSETTO:-0400
TZNAME:EDT
DTSTART:20270314T070000
END:DAYLIGHT
BEGIN:STANDARD
TZOFFSETFROM:-0400
TZOFFSETTO:-0500
TZNAME:EST
DTSTART:20271107T060000
END:STANDARD
END:VTIMEZONE
BEGIN:VEVENT
DTSTART;VALUE=DATE:20260426
DTEND;VALUE=DATE:20260427
DTSTAMP:20260423T083345
CREATED:20260325T110529Z
LAST-MODIFIED:20260416T185530Z
UID:2835-1777161600-1777247999@greatmarshinstitute.org
SUMMARY:Great Marsh Open House (Artist Day)
DESCRIPTION:Calling all artists (and non-artists too)! Sunday\, April\, 26th the Great Marsh will be open dawn to dusk. Take a self-guided tour to paint\, take photos\, or simply enjoy the wetlands\, woods\, and meadows. \nIf you are interested in attending\, please RSVP to lori@greatmarshinstitute.org with your name and the time you plan to arrive. Check-in will be at the Farm House. \nThis event is free of charge but we humbly ask for a suggested donation of $20. Donate through our Paypal\, Venmo\, or make a cash donation at the door
URL:https://greatmarshinstitute.org/event/great-marsh-open-house-artist-day-2/
ORGANIZER;CN="Great Marsh Institute":MAILTO:info@greatmarshinstitute.org
END:VEVENT
BEGIN:VEVENT
DTSTART;TZID=America/New_York:20260516T140000
DTEND;TZID=America/New_York:20260517T120000
DTSTAMP:20260423T083345
CREATED:20260331T143418Z
LAST-MODIFIED:20260331T143539Z
UID:2839-1778940000-1779019200@greatmarshinstitute.org
SUMMARY:The Art of Bird Photography\, 2026
DESCRIPTION:Join us Saturday\, May 16 and Sunday\, May 17 as local bird photographer and hobbyist Hilary Vadner leads a 2-day workshop on “The Art of Bird Photography.” \n \nOn Saturday afternoon\, May 16 from 2pm-4pm\, we’ll meet in the Nature Center for a presentation on avian photography\, techniques and tips. \nSunday morning\, May 17\, students will have the opportunity to bring their cameras and gear and reconvene at the Great Marsh for a morning of mentored practice with Hilary and bird spotting with Patty Werth of the Valley Forge Audubon Society. Join us at 8 am for in-the-field instruction and enjoy this spectacular\, photo-worthy landscape.\n\nHilary is an avid photographer. Her work has been recognized by Wild Birds Unlimited BirdSpotter Contest; Friends of Heinz Refuge Nature in Focus Photo Competition; and published in Birds ’n Blooms magazine. \n10 spaces available with a wait list\n$50 suggested donation to the Great Marsh Institute\nSign up today!
URL:https://greatmarshinstitute.org/event/the-art-of-bird-photography-2026/
ORGANIZER;CN="Great Marsh Institute":MAILTO:info@greatmarshinstitute.org
END:VEVENT
END:VCALENDAR